Package: CSSP Version: 1.38.0 Command: /Library/Frameworks/R.framework/Resources/bin/R CMD build --keep-empty-dirs --no-resave-data CSSP StartedAt: 2023-10-15 17:43:12 -0400 (Sun, 15 Oct 2023) EndedAt: 2023-10-15 17:43:29 -0400 (Sun, 15 Oct 2023) EllapsedTime: 16.9 seconds RetCode: 1 Status: ERROR PackageFile: None PackageFileSize: NA