Package: CSSP Version: 1.37.0 Command: rm -rf CSSP.buildbin-libdir && mkdir CSSP.buildbin-libdir && /Users/biocbuild/BBS/utils/build-universal.sh CSSP_1.37.0.tar.gz /Library/Frameworks/R.framework/Resources/bin/R CSSP.buildbin-libdir StartedAt: 2023-04-14 08:50:26 -0400 (Fri, 14 Apr 2023) EndedAt: 2023-04-14 08:50:46 -0400 (Fri, 14 Apr 2023) EllapsedTime: 19.6 seconds RetCode: 0 Status: OK PackageFile: CSSP_1.37.0.tgz PackageFileSize: 974.5 KiB