Package: CSAR Version: 1.52.0 Command: /home/biocbuild/bbs-3.17-bioc/R/bin/R CMD build --keep-empty-dirs --no-resave-data CSAR StartedAt: 2023-10-15 16:28:06 -0400 (Sun, 15 Oct 2023) EndedAt: 2023-10-15 16:28:34 -0400 (Sun, 15 Oct 2023) EllapsedTime: 27.9 seconds RetCode: 0 Status: OK PackageFile: CSAR_1.52.0.tar.gz PackageFileSize: 110.6 KiB