Package: CSAR Version: 1.52.0 Command: /Library/Frameworks/R.framework/Resources/bin/R CMD INSTALL CSAR StartedAt: 2023-10-15 15:13:02 -0400 (Sun, 15 Oct 2023) EndedAt: 2023-10-15 15:13:37 -0400 (Sun, 15 Oct 2023) EllapsedTime: 35.4 seconds RetCode: 0 Status: OK