Package: CSAR Version: 1.52.0 Command: /Library/Frameworks/R.framework/Resources/bin/R CMD build --keep-empty-dirs --no-resave-data CSAR StartedAt: 2023-10-15 17:42:55 -0400 (Sun, 15 Oct 2023) EndedAt: 2023-10-15 17:43:58 -0400 (Sun, 15 Oct 2023) EllapsedTime: 63.0 seconds RetCode: 0 Status: OK PackageFile: CSAR_1.52.0.tar.gz PackageFileSize: 233.5 KiB