Package: CSAR Version: 1.52.0 Command: rm -rf CSAR.buildbin-libdir && mkdir CSAR.buildbin-libdir && /Users/biocbuild/BBS/utils/build-universal.sh CSAR_1.52.0.tar.gz /Library/Frameworks/R.framework/Resources/bin/R CSAR.buildbin-libdir StartedAt: 2023-10-16 09:13:30 -0400 (Mon, 16 Oct 2023) EndedAt: 2023-10-16 09:14:06 -0400 (Mon, 16 Oct 2023) EllapsedTime: 35.8 seconds RetCode: 0 Status: OK PackageFile: CSAR_1.52.0.tgz PackageFileSize: 302.7 KiB