Package: COSNet Version: 1.34.0 Command: /home/biocbuild/bbs-3.17-bioc/R/bin/R CMD build --keep-empty-dirs --no-resave-data COSNet StartedAt: 2023-10-15 16:26:33 -0400 (Sun, 15 Oct 2023) EndedAt: 2023-10-15 16:31:12 -0400 (Sun, 15 Oct 2023) EllapsedTime: 278.8 seconds RetCode: 0 Status: OK PackageFile: COSNet_1.34.0.tar.gz PackageFileSize: 281.2 KiB