Package: COMPASS Version: 1.38.1 Command: /home/biocbuild/bbs-3.17-bioc/R/bin/R CMD build --keep-empty-dirs --no-resave-data COMPASS StartedAt: 2023-10-15 16:23:45 -0400 (Sun, 15 Oct 2023) EndedAt: 2023-10-15 16:27:17 -0400 (Sun, 15 Oct 2023) EllapsedTime: 212.1 seconds RetCode: 0 Status: OK PackageFile: COMPASS_1.38.1.tar.gz PackageFileSize: 1.233 MiB