Package: COMPASS Version: 1.38.1 Command: /Library/Frameworks/R.framework/Resources/bin/R CMD build --keep-empty-dirs --no-resave-data COMPASS StartedAt: 2023-10-15 17:34:46 -0400 (Sun, 15 Oct 2023) EndedAt: 2023-10-15 17:42:31 -0400 (Sun, 15 Oct 2023) EllapsedTime: 465.4 seconds RetCode: 0 Status: OK PackageFile: COMPASS_1.38.1.tar.gz PackageFileSize: 1.239 MiB