Package: CNVrd2 Version: 1.38.0 Command: /home/biocbuild/bbs-3.17-bioc/R/bin/R CMD build --keep-empty-dirs --no-resave-data CNVrd2 StartedAt: 2023-10-15 16:22:33 -0400 (Sun, 15 Oct 2023) EndedAt: 2023-10-15 16:23:45 -0400 (Sun, 15 Oct 2023) EllapsedTime: 71.9 seconds RetCode: 0 Status: OK PackageFile: CNVrd2_1.38.0.tar.gz PackageFileSize: 2.536 MiB