Package: CNORode Version: 1.42.0 Command: /home/biocbuild/bbs-3.17-bioc/R/bin/R CMD build --keep-empty-dirs --no-resave-data CNORode StartedAt: 2023-10-15 16:22:03 -0400 (Sun, 15 Oct 2023) EndedAt: 2023-10-15 16:23:10 -0400 (Sun, 15 Oct 2023) EllapsedTime: 67.2 seconds RetCode: 0 Status: OK PackageFile: CNORode_1.42.0.tar.gz PackageFileSize: 719.8 KiB