Package: CNORode Version: 1.42.0 Command: /Library/Frameworks/R.framework/Resources/bin/R CMD INSTALL CNORode StartedAt: 2023-10-15 15:46:28 -0400 (Sun, 15 Oct 2023) EndedAt: 2023-10-15 15:47:15 -0400 (Sun, 15 Oct 2023) EllapsedTime: 46.5 seconds RetCode: 0 Status: OK