Package: CNORfuzzy Version: 1.42.0 Command: chmod a+r CNORfuzzy -R && F:\biocbuild\bbs-3.17-bioc\R\bin\R.exe CMD build --keep-empty-dirs --no-resave-data CNORfuzzy StartedAt: 2023-10-15 18:13:44 -0400 (Sun, 15 Oct 2023) EndedAt: 2023-10-15 18:14:14 -0400 (Sun, 15 Oct 2023) EllapsedTime: 30.2 seconds RetCode: 0 Status: OK PackageFile: CNORfuzzy_1.42.0.tar.gz PackageFileSize: 923.4 KiB