Package: CNORfuzzy Version: 1.42.0 Command: rm -rf CNORfuzzy.buildbin-libdir && mkdir CNORfuzzy.buildbin-libdir && F:\biocbuild\bbs-3.17-bioc\R\bin\R.exe CMD INSTALL --build --library=CNORfuzzy.buildbin-libdir CNORfuzzy_1.42.0.tar.gz StartedAt: 2023-10-16 08:36:23 -0400 (Mon, 16 Oct 2023) EndedAt: 2023-10-16 08:36:39 -0400 (Mon, 16 Oct 2023) EllapsedTime: 16.1 seconds RetCode: 0 Status: OK PackageFile: CNORfuzzy_1.42.0.zip PackageFileSize: 702.2 KiB