Package: CFAssay Version: 1.34.0 Command: /home/biocbuild/bbs-3.17-bioc/R/bin/R CMD build --keep-empty-dirs --no-resave-data CFAssay StartedAt: 2023-10-15 16:15:32 -0400 (Sun, 15 Oct 2023) EndedAt: 2023-10-15 16:15:37 -0400 (Sun, 15 Oct 2023) EllapsedTime: 5.3 seconds RetCode: 0 Status: OK PackageFile: CFAssay_1.34.0.tar.gz PackageFileSize: 192.2 KiB