Package: CCPROMISE Version: 1.26.0 Command: /Library/Frameworks/R.framework/Resources/bin/R CMD build --keep-empty-dirs --no-resave-data CCPROMISE StartedAt: 2023-10-15 17:15:52 -0400 (Sun, 15 Oct 2023) EndedAt: 2023-10-15 17:17:26 -0400 (Sun, 15 Oct 2023) EllapsedTime: 93.6 seconds RetCode: 0 Status: OK PackageFile: CCPROMISE_1.26.0.tar.gz PackageFileSize: 1.03 MiB