Package: CBNplot Version: 1.0.0 Command: rm -rf CBNplot.buildbin-libdir && mkdir CBNplot.buildbin-libdir && F:\biocbuild\bbs-3.17-bioc\R\bin\R.exe CMD INSTALL --build --library=CBNplot.buildbin-libdir CBNplot_1.0.0.tar.gz StartedAt: 2023-10-16 08:32:20 -0400 (Mon, 16 Oct 2023) EndedAt: 2023-10-16 08:32:59 -0400 (Mon, 16 Oct 2023) EllapsedTime: 39.3 seconds RetCode: 0 Status: OK PackageFile: CBNplot_1.0.0.zip PackageFileSize: 978.9 KiB