Package: CBNplot Version: 1.0.0 Command: rm -rf CBNplot.buildbin-libdir && mkdir CBNplot.buildbin-libdir && /Users/biocbuild/BBS/utils/build-universal.sh CBNplot_1.0.0.tar.gz /Library/Frameworks/R.framework/Resources/bin/R CBNplot.buildbin-libdir StartedAt: 2023-10-16 09:05:34 -0400 (Mon, 16 Oct 2023) EndedAt: 2023-10-16 09:07:17 -0400 (Mon, 16 Oct 2023) EllapsedTime: 102.4 seconds RetCode: 0 Status: OK PackageFile: CBNplot_1.0.0.tgz PackageFileSize: 1.544 MiB