Package: BumpyMatrix Version: 1.8.0 Command: F:\biocbuild\bbs-3.17-bioc\R\bin\R.exe CMD INSTALL BumpyMatrix StartedAt: 2023-10-15 15:53:34 -0400 (Sun, 15 Oct 2023) EndedAt: 2023-10-15 15:54:02 -0400 (Sun, 15 Oct 2023) EllapsedTime: 27.7 seconds RetCode: 0 Status: OK