Package: BumpyMatrix Version: 1.8.0 Command: rm -rf BumpyMatrix.buildbin-libdir && mkdir BumpyMatrix.buildbin-libdir && F:\biocbuild\bbs-3.17-bioc\R\bin\R.exe CMD INSTALL --build --library=BumpyMatrix.buildbin-libdir BumpyMatrix_1.8.0.tar.gz StartedAt: 2023-10-16 08:31:14 -0400 (Mon, 16 Oct 2023) EndedAt: 2023-10-16 08:31:37 -0400 (Mon, 16 Oct 2023) EllapsedTime: 23.3 seconds RetCode: 0 Status: OK PackageFile: BumpyMatrix_1.8.0.zip PackageFileSize: 1.026 MiB