Package: BufferedMatrixMethods Version: 1.64.0 Command: F:\biocbuild\bbs-3.17-bioc\R\bin\R.exe CMD INSTALL BufferedMatrixMethods StartedAt: 2023-10-15 15:52:11 -0400 (Sun, 15 Oct 2023) EndedAt: 2023-10-15 15:52:28 -0400 (Sun, 15 Oct 2023) EllapsedTime: 16.6 seconds RetCode: 0 Status: OK