Package: BufferedMatrixMethods Version: 1.64.0 Command: /home/biocbuild/bbs-3.17-bioc/R/bin/R CMD check --install=check:BufferedMatrixMethods.install-out.txt --library=/home/biocbuild/bbs-3.17-bioc/R/site-library --timings BufferedMatrixMethods_1.64.0.tar.gz StartedAt: 2023-10-15 19:45:58 -0400 (Sun, 15 Oct 2023) EndedAt: 2023-10-15 19:46:12 -0400 (Sun, 15 Oct 2023) EllapsedTime: 14.0 seconds RetCode: 0 Status: OK CheckDir: BufferedMatrixMethods.Rcheck Warnings: 0