Package: BufferedMatrixMethods Version: 1.64.0 Command: /home/biocbuild/bbs-3.17-bioc/R/bin/R CMD build --keep-empty-dirs --no-resave-data BufferedMatrixMethods StartedAt: 2023-10-15 16:10:00 -0400 (Sun, 15 Oct 2023) EndedAt: 2023-10-15 16:10:01 -0400 (Sun, 15 Oct 2023) EllapsedTime: 1.0 seconds RetCode: 0 Status: OK PackageFile: BufferedMatrixMethods_1.64.0.tar.gz PackageFileSize: 10.83 KiB