Package: BufferedMatrixMethods Version: 1.64.0 Command: /Library/Frameworks/R.framework/Resources/bin/R CMD check --install=check:BufferedMatrixMethods.install-out.txt --library=/Library/Frameworks/R.framework/Resources/library --no-vignettes --timings BufferedMatrixMethods_1.64.0.tar.gz StartedAt: 2023-10-15 23:19:30 -0400 (Sun, 15 Oct 2023) EndedAt: 2023-10-15 23:20:10 -0400 (Sun, 15 Oct 2023) EllapsedTime: 39.3 seconds RetCode: 0 Status: OK CheckDir: BufferedMatrixMethods.Rcheck Warnings: 0