Package: BufferedMatrix Version: 1.64.0 Command: /Library/Frameworks/R.framework/Resources/bin/R CMD INSTALL BufferedMatrix StartedAt: 2023-10-15 15:03:40 -0400 (Sun, 15 Oct 2023) EndedAt: 2023-10-15 15:04:05 -0400 (Sun, 15 Oct 2023) EllapsedTime: 24.7 seconds RetCode: 0 Status: OK