Package: BufferedMatrix Version: 1.64.0 Command: /Library/Frameworks/R.framework/Resources/bin/R CMD build --keep-empty-dirs --no-resave-data BufferedMatrix StartedAt: 2023-10-15 17:09:40 -0400 (Sun, 15 Oct 2023) EndedAt: 2023-10-15 17:10:10 -0400 (Sun, 15 Oct 2023) EllapsedTime: 29.4 seconds RetCode: 0 Status: OK PackageFile: BufferedMatrix_1.64.0.tar.gz PackageFileSize: 629.2 KiB