Package: BufferedMatrix Version: 1.64.0 Command: rm -rf BufferedMatrix.buildbin-libdir && mkdir BufferedMatrix.buildbin-libdir && /Users/biocbuild/BBS/utils/build-universal.sh BufferedMatrix_1.64.0.tar.gz /Library/Frameworks/R.framework/Resources/bin/R BufferedMatrix.buildbin-libdir StartedAt: 2023-10-16 09:04:13 -0400 (Mon, 16 Oct 2023) EndedAt: 2023-10-16 09:04:32 -0400 (Mon, 16 Oct 2023) EllapsedTime: 18.8 seconds RetCode: 0 Status: OK PackageFile: BufferedMatrix_1.64.0.tgz PackageFileSize: 708 KiB