Package: BubbleTree Version: 2.30.0 Command: chmod a+r BubbleTree -R && F:\biocbuild\bbs-3.17-bioc\R\bin\R.exe CMD build --keep-empty-dirs --no-resave-data BubbleTree StartedAt: 2023-10-15 17:50:57 -0400 (Sun, 15 Oct 2023) EndedAt: 2023-10-15 17:54:41 -0400 (Sun, 15 Oct 2023) EllapsedTime: 223.8 seconds RetCode: 0 Status: OK PackageFile: BubbleTree_2.30.0.tar.gz PackageFileSize: 26.11 MiB