Package: BubbleTree Version: 2.30.0 Command: /Library/Frameworks/R.framework/Resources/bin/R CMD build --keep-empty-dirs --no-resave-data BubbleTree StartedAt: 2023-10-15 17:09:39 -0400 (Sun, 15 Oct 2023) EndedAt: 2023-10-15 17:16:07 -0400 (Sun, 15 Oct 2023) EllapsedTime: 388.2 seconds RetCode: 0 Status: OK PackageFile: BubbleTree_2.30.0.tar.gz PackageFileSize: 27.61 MiB