Package: BloodGen3Module Version: 1.8.0 Command: rm -rf BloodGen3Module.buildbin-libdir && mkdir BloodGen3Module.buildbin-libdir && F:\biocbuild\bbs-3.17-bioc\R\bin\R.exe CMD INSTALL --build --library=BloodGen3Module.buildbin-libdir BloodGen3Module_1.8.0.tar.gz StartedAt: 2023-10-16 08:30:12 -0400 (Mon, 16 Oct 2023) EndedAt: 2023-10-16 08:30:48 -0400 (Mon, 16 Oct 2023) EllapsedTime: 35.4 seconds RetCode: 0 Status: OK PackageFile: BloodGen3Module_1.8.0.zip PackageFileSize: 244.7 KiB