Package: BloodGen3Module Version: 1.8.0 Command: rm -rf BloodGen3Module.buildbin-libdir && mkdir BloodGen3Module.buildbin-libdir && /Users/biocbuild/BBS/utils/build-universal.sh BloodGen3Module_1.8.0.tar.gz /Library/Frameworks/R.framework/Resources/bin/R BloodGen3Module.buildbin-libdir StartedAt: 2023-10-16 09:03:20 -0400 (Mon, 16 Oct 2023) EndedAt: 2023-10-16 09:05:01 -0400 (Mon, 16 Oct 2023) EllapsedTime: 101.5 seconds RetCode: 0 Status: OK PackageFile: BloodGen3Module_1.8.0.tgz PackageFileSize: 239.7 KiB