Package: BiocSklearn Version: 1.22.0 Command: /home/biocbuild/bbs-3.17-bioc/R/bin/R CMD build --keep-empty-dirs --no-resave-data BiocSklearn StartedAt: 2023-10-15 16:05:04 -0400 (Sun, 15 Oct 2023) EndedAt: 2023-10-15 16:05:46 -0400 (Sun, 15 Oct 2023) EllapsedTime: 42.2 seconds RetCode: 0 Status: OK PackageFile: BiocSklearn_1.22.0.tar.gz PackageFileSize: 32.52 MiB