Package: BiocPkgTools Version: 1.18.1 Command: /home/biocbuild/bbs-3.17-bioc/R/bin/R CMD build --keep-empty-dirs --no-resave-data BiocPkgTools StartedAt: 2023-10-15 16:04:56 -0400 (Sun, 15 Oct 2023) EndedAt: 2023-10-15 16:05:56 -0400 (Sun, 15 Oct 2023) EllapsedTime: 60.3 seconds RetCode: 0 Status: OK PackageFile: BiocPkgTools_1.18.1.tar.gz PackageFileSize: 1.397 MiB