Package: BiocParallel Version: 1.34.2 Command: rm -rf BiocParallel.buildbin-libdir && mkdir BiocParallel.buildbin-libdir && F:\biocbuild\bbs-3.17-bioc\R\bin\R.exe CMD INSTALL --build --library=BiocParallel.buildbin-libdir BiocParallel_1.34.2.tar.gz StartedAt: 2023-10-16 08:29:00 -0400 (Mon, 16 Oct 2023) EndedAt: 2023-10-16 08:29:40 -0400 (Mon, 16 Oct 2023) EllapsedTime: 39.4 seconds RetCode: 0 Status: OK PackageFile: BiocParallel_1.34.2.zip PackageFileSize: 1.862 MiB