Package: BiocFileCache Version: 2.8.0 Command: /home/biocbuild/bbs-3.17-bioc/R/bin/R CMD INSTALL BiocFileCache StartedAt: 2023-10-15 15:15:50 -0400 (Sun, 15 Oct 2023) EndedAt: 2023-10-15 15:15:56 -0400 (Sun, 15 Oct 2023) EllapsedTime: 6.7 seconds RetCode: 0 Status: OK