Package: BiocFileCache Version: 2.8.0 Command: /home/biocbuild/bbs-3.17-bioc/R/bin/R CMD check --install=check:BiocFileCache.install-out.txt --library=/home/biocbuild/bbs-3.17-bioc/R/site-library --timings BiocFileCache_2.8.0.tar.gz StartedAt: 2023-10-15 19:32:17 -0400 (Sun, 15 Oct 2023) EndedAt: 2023-10-15 19:34:10 -0400 (Sun, 15 Oct 2023) EllapsedTime: 112.9 seconds RetCode: 0 Status: OK CheckDir: BiocFileCache.Rcheck Warnings: 0