Package: BiocCheck Version: 1.36.1 Command: /home/biocbuild/bbs-3.17-bioc/R/bin/R CMD INSTALL BiocCheck StartedAt: 2023-10-15 15:15:59 -0400 (Sun, 15 Oct 2023) EndedAt: 2023-10-15 15:16:09 -0400 (Sun, 15 Oct 2023) EllapsedTime: 10.3 seconds RetCode: 0 Status: OK