Package: BioTIP Version: 1.14.0 Command: /Library/Frameworks/R.framework/Resources/bin/R CMD build --keep-empty-dirs --no-resave-data BioTIP StartedAt: 2023-10-15 17:03:41 -0400 (Sun, 15 Oct 2023) EndedAt: 2023-10-15 17:07:21 -0400 (Sun, 15 Oct 2023) EllapsedTime: 220.6 seconds RetCode: 0 Status: OK PackageFile: BioTIP_1.14.0.tar.gz PackageFileSize: 8.827 MiB