Package: BioNetStat Version: 1.20.0 Command: rm -rf BioNetStat.buildbin-libdir && mkdir BioNetStat.buildbin-libdir && F:\biocbuild\bbs-3.17-bioc\R\bin\R.exe CMD INSTALL --build --library=BioNetStat.buildbin-libdir BioNetStat_1.20.0.tar.gz StartedAt: 2023-10-16 08:29:42 -0400 (Mon, 16 Oct 2023) EndedAt: 2023-10-16 08:30:09 -0400 (Mon, 16 Oct 2023) EllapsedTime: 27.4 seconds RetCode: 0 Status: OK PackageFile: BioNetStat_1.20.0.zip PackageFileSize: 3.054 MiB