Package: BioNetStat Version: 1.20.0 Command: rm -rf BioNetStat.buildbin-libdir && mkdir BioNetStat.buildbin-libdir && /Users/biocbuild/BBS/utils/build-universal.sh BioNetStat_1.20.0.tar.gz /Library/Frameworks/R.framework/Resources/bin/R BioNetStat.buildbin-libdir StartedAt: 2023-10-16 09:02:53 -0400 (Mon, 16 Oct 2023) EndedAt: 2023-10-16 09:04:07 -0400 (Mon, 16 Oct 2023) EllapsedTime: 74.0 seconds RetCode: 0 Status: OK PackageFile: BioNetStat_1.20.0.tgz PackageFileSize: 3.008 MiB