Package: BioNet Version: 1.60.0 Command: chmod a+r BioNet -R && F:\biocbuild\bbs-3.17-bioc\R\bin\R.exe CMD build --keep-empty-dirs --no-resave-data BioNet StartedAt: 2023-10-15 17:44:56 -0400 (Sun, 15 Oct 2023) EndedAt: 2023-10-15 17:46:00 -0400 (Sun, 15 Oct 2023) EllapsedTime: 64.6 seconds RetCode: 0 Status: OK PackageFile: BioNet_1.60.0.tar.gz PackageFileSize: 1.613 MiB