Package: BioNet Version: 1.60.0 Command: rm -rf BioNet.buildbin-libdir && mkdir BioNet.buildbin-libdir && /Users/biocbuild/BBS/utils/build-universal.sh BioNet_1.60.0.tar.gz /Library/Frameworks/R.framework/Resources/bin/R BioNet.buildbin-libdir StartedAt: 2023-10-16 09:02:52 -0400 (Mon, 16 Oct 2023) EndedAt: 2023-10-16 09:03:47 -0400 (Mon, 16 Oct 2023) EllapsedTime: 55.2 seconds RetCode: 0 Status: OK PackageFile: BioNet_1.60.0.tgz PackageFileSize: 1.524 MiB