Package: BioMVCClass Version: 1.68.0 Command: F:\biocbuild\bbs-3.17-bioc\R\bin\R.exe CMD INSTALL BioMVCClass StartedAt: 2023-10-15 16:06:43 -0400 (Sun, 15 Oct 2023) EndedAt: 2023-10-15 16:06:52 -0400 (Sun, 15 Oct 2023) EllapsedTime: 9.4 seconds RetCode: 0 Status: OK