Package: BioMVCClass Version: 1.68.0 Command: /home/biocbuild/bbs-3.17-bioc/R/bin/R CMD build --keep-empty-dirs --no-resave-data BioMVCClass StartedAt: 2023-10-15 16:06:23 -0400 (Sun, 15 Oct 2023) EndedAt: 2023-10-15 16:06:29 -0400 (Sun, 15 Oct 2023) EllapsedTime: 5.6 seconds RetCode: 0 Status: OK PackageFile: BioMVCClass_1.68.0.tar.gz PackageFileSize: 131.4 KiB