Package: BioCor Version: 1.24.0 Command: /home/biocbuild/bbs-3.17-bioc/R/bin/R CMD build --keep-empty-dirs --no-resave-data BioCor StartedAt: 2023-10-15 16:04:47 -0400 (Sun, 15 Oct 2023) EndedAt: 2023-10-15 16:08:36 -0400 (Sun, 15 Oct 2023) EllapsedTime: 229.5 seconds RetCode: 0 Status: OK PackageFile: BioCor_1.24.0.tar.gz PackageFileSize: 1.372 MiB