Package: BeadDataPackR Version: 1.52.0 Command: /home/biocbuild/bbs-3.17-bioc/R/bin/R CMD build --keep-empty-dirs --no-resave-data BeadDataPackR StartedAt: 2023-10-15 16:01:24 -0400 (Sun, 15 Oct 2023) EndedAt: 2023-10-15 16:01:29 -0400 (Sun, 15 Oct 2023) EllapsedTime: 5.0 seconds RetCode: 0 Status: OK PackageFile: BeadDataPackR_1.52.0.tar.gz PackageFileSize: 236.4 KiB