Package: BaseSpaceR Version: 1.44.0 Command: /home/biocbuild/bbs-3.17-bioc/R/bin/R CMD INSTALL BaseSpaceR StartedAt: 2023-10-15 15:08:55 -0400 (Sun, 15 Oct 2023) EndedAt: 2023-10-15 15:09:04 -0400 (Sun, 15 Oct 2023) EllapsedTime: 9.2 seconds RetCode: 0 Status: OK