Package: BOBaFIT Version: 1.4.0 Command: /home/biocbuild/bbs-3.17-bioc/R/bin/R CMD build --keep-empty-dirs --no-resave-data BOBaFIT StartedAt: 2023-10-15 16:08:27 -0400 (Sun, 15 Oct 2023) EndedAt: 2023-10-15 16:10:00 -0400 (Sun, 15 Oct 2023) EllapsedTime: 92.7 seconds RetCode: 0 Status: OK PackageFile: BOBaFIT_1.4.0.tar.gz PackageFileSize: 2.498 MiB