Package: BLMA Version: 1.24.0 Command: /home/biocbuild/bbs-3.17-bioc/R/bin/R CMD build --keep-empty-dirs --no-resave-data BLMA StartedAt: 2023-10-15 16:08:07 -0400 (Sun, 15 Oct 2023) EndedAt: 2023-10-15 16:12:14 -0400 (Sun, 15 Oct 2023) EllapsedTime: 246.9 seconds RetCode: 0 Status: OK PackageFile: BLMA_1.24.0.tar.gz PackageFileSize: 2.676 MiB