Package: BASiCS Version: 2.12.3 Command: /home/biocbuild/bbs-3.17-bioc/R/bin/R CMD INSTALL BASiCS StartedAt: 2023-10-15 15:43:13 -0400 (Sun, 15 Oct 2023) EndedAt: 2023-10-15 15:44:27 -0400 (Sun, 15 Oct 2023) EllapsedTime: 73.5 seconds RetCode: 0 Status: OK